BEGIN:VCALENDAR
VERSION:2.0
PRODID:-//Hare Krishna Valley - ECPv4.8.0.1//NONSGML v1.0//EN
CALSCALE:GREGORIAN
METHOD:PUBLISH
X-WR-CALNAME:Hare Krishna Valley
X-ORIGINAL-URL:http://harekrishnavalley.com.au
X-WR-CALDESC:Events for Hare Krishna Valley
BEGIN:VEVENT
DTSTART;TZID=UTC+0:20190215T180000
DTEND;TZID=UTC+0:20190217T153000
DTSTAMP:20190226T190853
CREATED:20190120T073457Z
LAST-MODIFIED:20190120T073457Z
UID:3929-1550253600-1550417400@harekrishnavalley.com.au
SUMMARY:Ecstatic Festival - Feb 15 - 17 2019
DESCRIPTION:This is a conscious festival not to be missed with international & local Ecstatic dance DJs\, live musicians\, Sacred Cacao ceremony\, and a wide range of Ecstatic arts and healing modalities. \n \n
URL:http://harekrishnavalley.com.au/event/ecstatic-festival-feb-15-17-2019/
LOCATION:Hare Krishna Valley\, 1265\, Winchelsea – Deans Marsh Road\,\, Bambra\, Victoria\, Australia
GEO:-38.3493883;143.9640449
X-APPLE-STRUCTURED-LOCATION;VALUE=URI;X-ADDRESS=Hare Krishna Valley 1265 Winchelsea – Deans Marsh Road Bambra Victoria Australia;X-APPLE-RADIUS=500;X-TITLE=1265\, Winchelsea – Deans Marsh Road\,:geo:143.9640449,-38.3493883
ORGANIZER;CN="Keshava%20dasa":MAILTO:admin@harekrishnavalley.com.au
END:VEVENT
BEGIN:VEVENT
DTSTART;TZID=UTC+0:20190217T120000
DTEND;TZID=UTC+0:20190217T150000
DTSTAMP:20190226T190853
CREATED:20180105T042300Z
LAST-MODIFIED:20190113T011050Z
UID:3913-1550404800-1550415600@harekrishnavalley.com.au
SUMMARY:Sunday Feastival Program
DESCRIPTION:Kirtan (Mantra Meditation)\, Spiritual Discussion and a mouth watering Vegan/Vegetarian lunch.\nPlease contact Keshava on 0405 577 453 / 5288 7383 to confirm your attendance. \n \n
URL:http://harekrishnavalley.com.au/event/sunday-feastival-program-2-2019-02-10/
LOCATION:Hare Krishna Valley\, 1265\, Winchelsea – Deans Marsh Road\,\, Bambra\, Victoria\, Australia
GEO:-38.3493883;143.9640449
X-APPLE-STRUCTURED-LOCATION;VALUE=URI;X-ADDRESS=Hare Krishna Valley 1265 Winchelsea – Deans Marsh Road Bambra Victoria Australia;X-APPLE-RADIUS=500;X-TITLE=1265\, Winchelsea – Deans Marsh Road\,:geo:143.9640449,-38.3493883
CATEGORIES:Community
ATTACH;FMTTYPE=image/jpeg:http://harekrishnavalley.com.au/wp-content/uploads/2018/01/24232825_1978330892404865_2435594419900397336_n.jpg
ORGANIZER;CN="Keshava%20dasa":MAILTO:admin@harekrishnavalley.com.au
END:VEVENT
BEGIN:VEVENT
DTSTART;TZID=UTC+0:20190224T110000
DTEND;TZID=UTC+0:20190224T160000
DTSTAMP:20190226T190853
CREATED:20190107T110404Z
LAST-MODIFIED:20190107T110404Z
UID:3906-1551006000-1551024000@harekrishnavalley.com.au
SUMMARY:Festival of Colours - Barwon Park Mansion
DESCRIPTION: \n
URL:http://harekrishnavalley.com.au/event/festival-of-colours-barwon-park-mansion/
LOCATION:Barwon Park Mansion\, 105 Inverleigh Rd\, Winchelsea\, VIC\, 3241\, Australia
GEO:-38.2230771;144.0054502
X-APPLE-STRUCTURED-LOCATION;VALUE=URI;X-ADDRESS=Barwon Park Mansion 105 Inverleigh Rd Winchelsea VIC 3241 Australia;X-APPLE-RADIUS=500;X-TITLE=105 Inverleigh Rd:geo:144.0054502,-38.2230771
CATEGORIES:Community,Music
ATTACH;FMTTYPE=image/jpeg:http://harekrishnavalley.com.au/wp-content/uploads/2019/01/festival-of-colors-2.jpg
ORGANIZER;CN="Keshava%20dasa":MAILTO:admin@harekrishnavalley.com.au
END:VEVENT
END:VCALENDAR